BEGIN:VCALENDAR
VERSION:2.0
PRODID:-//eventon.com NONSGML v1.0//EN
CALSCALE:GREGORIAN
METHOD:PUBLISH
BEGIN:VEVENT
UID:69e73310278f7
DTSTAMP:20260421T081928Z
DTSTART:20170531T170000Z
DTEND:20170531T235000Z
LOCATION:
SUMMARY:FOGO NA BOCA
DESCRIPTION:FOGO NA BOCA\nhttps://ficmec.es/events/fogo-na-boca/
URL:https://ficmec.es/events/fogo-na-boca/
END:VEVENT
END:VCALENDAR