BEGIN:VCALENDAR
VERSION:2.0
PRODID:-//eventon.com NONSGML v1.0//EN
CALSCALE:GREGORIAN
METHOD:PUBLISH
BEGIN:VEVENT
UID:69e7330b0e77c
DTSTAMP:20260421T081923Z
DTSTART:20170531T193000Z
DTEND:20170531T235000Z
LOCATION:
SUMMARY:EL VALLE SIN SOMBRA (#)
DESCRIPTION:EL VALLE SIN SOMBRA (#)\nhttps://ficmec.es/events/el-valle-sin-
 sombra/
URL:https://ficmec.es/events/el-valle-sin-sombra/
END:VEVENT
END:VCALENDAR