BEGIN:VCALENDAR
VERSION:2.0
PRODID:-//eventon.com NONSGML v1.0//EN
CALSCALE:GREGORIAN
METHOD:PUBLISH
BEGIN:VEVENT
UID:69e7330b199c5
DTSTAMP:20260421T081923Z
DTSTART:20250530T090000Z
DTEND:20250530T235000Z
LOCATION:CASA DE PIEDRA GARACHICO
SUMMARY:ESCAC
DESCRIPTION:Taller de cinematografía para videoclips\nhttps://ficmec.es/ev
 ents/escac-4/
URL:https://ficmec.es/events/escac-4/
END:VEVENT
END:VCALENDAR