BEGIN:VCALENDAR
VERSION:2.0
PRODID:-//eventon.com NONSGML v1.0//EN
CALSCALE:GREGORIAN
METHOD:PUBLISH
BEGIN:VEVENT
UID:69e4d0e9e4d1f
DTSTAMP:20260419T125609Z
DTSTART:20250605T170000Z
DTEND:20250605T235000Z
LOCATION:PARQUE DEL DRAGO ICOD DE LOS VINOS
SUMMARY:ABORA
DESCRIPTION:Sección oficial ECOISLAS\nhttps://ficmec.es/events/abora/
URL:https://ficmec.es/events/abora/
END:VEVENT
END:VCALENDAR