BEGIN:VCALENDAR
VERSION:2.0
PRODID:-//eventon.com NONSGML v1.0//EN
CALSCALE:GREGORIAN
METHOD:PUBLISH
BEGIN:VEVENT
UID:69e737a8e5fea
DTSTAMP:20260421T083904Z
DTSTART:20250605T170000Z
DTEND:20250605T235000Z
LOCATION:PARQUE DEL DRAGO ICOD DE LOS VINOS
SUMMARY:DONDE SE QUEJAN LOS PINOS
DESCRIPTION:Sección oficial Cortos Animación y Ficción\nhttps://ficmec.e
 s/events/donde-se-quejan-los-pinos/
URL:https://ficmec.es/events/donde-se-quejan-los-pinos/
END:VEVENT
END:VCALENDAR