BEGIN:VCALENDAR
VERSION:2.0
PRODID:-//eventon.com NONSGML v1.0//EN
CALSCALE:GREGORIAN
METHOD:PUBLISH
BEGIN:VEVENT
UID:69e7457528907
DTSTAMP:20260421T093757Z
DTSTART:20170528T170000Z
DTEND:20170528T235000Z
LOCATION:
SUMMARY:ESPERANZA
DESCRIPTION:ESPERANZA\nhttps://ficmec.es/events/esperanza/
URL:https://ficmec.es/events/esperanza/
END:VEVENT
END:VCALENDAR