BEGIN:VCALENDAR
VERSION:2.0
PRODID:-//eventon.com NONSGML v1.0//EN
CALSCALE:GREGORIAN
METHOD:PUBLISH
BEGIN:VEVENT
UID:69e742cb57064
DTSTAMP:20260421T092635Z
DTSTART:20170602T213000Z
DTEND:20170602T235000Z
LOCATION:
SUMMARY:Between Two Jonay Martín & Felu Morales
DESCRIPTION:Between Two Jonay Martín & Felu Morales\nhttps://ficmec.es/eve
 nts/between-two-jonay-martin-felu-morales/
URL:https://ficmec.es/events/between-two-jonay-martin-felu-morales/
END:VEVENT
END:VCALENDAR