BEGIN:VCALENDAR
VERSION:2.0
PRODID:-//eventon.com NONSGML v1.0//EN
CALSCALE:GREGORIAN
METHOD:PUBLISH
BEGIN:VEVENT
UID:69e744762a3e9
DTSTAMP:20260421T093342Z
DTSTART:20201011T100000Z
DTEND:20201011T235000Z
LOCATION:FUNDACIÓN CAJACANARIAS
SUMMARY:SECCIÓN OFICIAL: CORTOMETRAJES DOCUMENTAL
DESCRIPTION:SECCIÓN OFICIAL: CORTOMETRAJES DOCUMENTAL\nhttps://ficmec.es/e
 vents/seccion-oficial-cortometrajes-documental/
URL:https://ficmec.es/events/seccion-oficial-cortometrajes-documental/
END:VEVENT
END:VCALENDAR