BEGIN:VCALENDAR
VERSION:2.0
PRODID:-//eventon.com NONSGML v1.0//EN
CALSCALE:GREGORIAN
METHOD:PUBLISH
BEGIN:VEVENT
UID:69e9480364d0a
DTSTAMP:20260422T221323Z
DTSTART:20210530T170000Z
DTEND:20210530T235000Z
LOCATION:TRASERA AYUNTAMIENTO
SUMMARY:Lunana: A Yak in the Classroom
DESCRIPTION:Lunana: A Yak in the Classroom Pawo Choyning Dorji / 109&#8242;
 \nhttps://ficmec.es/events/lunana-a-yak-in-the-classroom/
URL:https://ficmec.es/events/lunana-a-yak-in-the-classroom/
END:VEVENT
END:VCALENDAR